BEGIN:VCALENDAR
VERSION:2.0
PRODID:-//wp-events-plugin.com//7.2.3.1//EN
TZID:America/Chicago
X-WR-TIMEZONE:America/Chicago
BEGIN:VEVENT
UID:681@westfrankfortpubliclibrary.org
DTSTART;TZID=America/Chicago:20251031T150000
DTEND;TZID=America/Chicago:20251031T170000
DTSTAMP:20250903T151409Z
URL:https://westfrankfortpubliclibrary.org/events/trail-of-treats/
SUMMARY:Trail of Treats
DESCRIPTION:Stop in and get a treat and a book.
CATEGORIES:Children's program
END:VEVENT
BEGIN:VTIMEZONE
TZID:America/Chicago
X-LIC-LOCATION:America/Chicago
BEGIN:DAYLIGHT
DTSTART:20250309T030000
TZOFFSETFROM:-0600
TZOFFSETTO:-0500
TZNAME:CDT
END:DAYLIGHT
END:VTIMEZONE
END:VCALENDAR