BEGIN:VCALENDAR
VERSION:2.0
PRODID:-//wp-events-plugin.com//7.2.3.1//EN
TZID:America/Chicago
X-WR-TIMEZONE:America/Chicago
BEGIN:VEVENT
UID:414@westfrankfortpubliclibrary.org
DTSTART;TZID=America/Chicago:20231221T103000
DTEND;TZID=America/Chicago:20231221T120000
DTSTAMP:20231205T153112Z
URL:https://westfrankfortpubliclibrary.org/events/teen-craft-time-registra
 tion-required/
SUMMARY:Teen Craft Time - registration required
DESCRIPTION:Space is limited. Call Michelle at the library to reserve your 
 spot.
CATEGORIES:Teen Program
END:VEVENT
BEGIN:VTIMEZONE
TZID:America/Chicago
X-LIC-LOCATION:America/Chicago
BEGIN:STANDARD
DTSTART:20231105T010000
TZOFFSETFROM:-0500
TZOFFSETTO:-0600
TZNAME:CST
END:STANDARD
END:VTIMEZONE
END:VCALENDAR