BEGIN:VCALENDAR
VERSION:2.0
PRODID:-//wp-events-plugin.com//7.2.3.1//EN
TZID:America/Chicago
X-WR-TIMEZONE:America/Chicago
BEGIN:VEVENT
UID:686@westfrankfortpubliclibrary.org
DTSTART;TZID=America/Chicago:20251126T133000
DTEND;TZID=America/Chicago:20251126T143000
DTSTAMP:20251003T181949Z
URL:https://westfrankfortpubliclibrary.org/events/teen-craft-registration-
 required-43/
SUMMARY:Teen Craft - registration required
DESCRIPTION:Supplies are limited. Call Michelle at the library to register.
CATEGORIES:Teen Program
END:VEVENT
BEGIN:VTIMEZONE
TZID:America/Chicago
X-LIC-LOCATION:America/Chicago
BEGIN:STANDARD
DTSTART:20251102T010000
TZOFFSETFROM:-0500
TZOFFSETTO:-0600
TZNAME:CST
END:STANDARD
END:VTIMEZONE
END:VCALENDAR