BEGIN:VCALENDAR
VERSION:2.0
PRODID:-//wp-events-plugin.com//7.2.3.1//EN
TZID:America/Chicago
X-WR-TIMEZONE:America/Chicago
BEGIN:VEVENT
UID:45@westfrankfortpubliclibrary.org
DTSTART;TZID=America/Chicago:20201218T110000
DTEND;TZID=America/Chicago:20201218T120000
DTSTAMP:20201103T163500Z
URL:https://westfrankfortpubliclibrary.org/events/teen-craft-registration-
 required-3/
SUMMARY:Teen Craft - registration required
DESCRIPTION:Teen Craft. Space is limited call Michelle at the library to re
 gister.
CATEGORIES:Teen Program
END:VEVENT
BEGIN:VTIMEZONE
TZID:America/Chicago
X-LIC-LOCATION:America/Chicago
BEGIN:STANDARD
DTSTART:20201101T010000
TZOFFSETFROM:-0500
TZOFFSETTO:-0600
TZNAME:CST
END:STANDARD
END:VTIMEZONE
END:VCALENDAR