BEGIN:VCALENDAR
VERSION:2.0
PRODID:-//wp-events-plugin.com//7.2.3.1//EN
TZID:America/Chicago
X-WR-TIMEZONE:America/Chicago
BEGIN:VEVENT
UID:308@westfrankfortpubliclibrary.org
DTSTART;TZID=America/Chicago:20230331T130000
DTEND;TZID=America/Chicago:20230331T140000
DTSTAMP:20230113T163422Z
URL:https://westfrankfortpubliclibrary.org/events/teen-craft-registration-
 required-27/
SUMMARY:Teen Craft - registration required
DESCRIPTION:Teen Craft - Space is limited - call Michelle at the library to
  register
CATEGORIES:Teen Program
END:VEVENT
BEGIN:VTIMEZONE
TZID:America/Chicago
X-LIC-LOCATION:America/Chicago
BEGIN:DAYLIGHT
DTSTART:20230312T030000
TZOFFSETFROM:-0600
TZOFFSETTO:-0500
TZNAME:CDT
END:DAYLIGHT
END:VTIMEZONE
END:VCALENDAR