BEGIN:VCALENDAR
VERSION:2.0
PRODID:-//wp-events-plugin.com//7.2.3.1//EN
TZID:America/Chicago
X-WR-TIMEZONE:America/Chicago
BEGIN:VEVENT
UID:307@westfrankfortpubliclibrary.org
DTSTART;TZID=America/Chicago:20230213T130000
DTEND;TZID=America/Chicago:20230213T140000
DTSTAMP:20230113T163307Z
URL:https://westfrankfortpubliclibrary.org/events/teen-craft-registration-
 required-26/
SUMMARY:Teen Craft - registration required
DESCRIPTION:Teen Craft -space is limited - call Michelle at the library to 
 register
CATEGORIES:Teen Program
END:VEVENT
BEGIN:VTIMEZONE
TZID:America/Chicago
X-LIC-LOCATION:America/Chicago
BEGIN:STANDARD
DTSTART:20221106T010000
TZOFFSETFROM:-0500
TZOFFSETTO:-0600
TZNAME:CST
END:STANDARD
END:VTIMEZONE
END:VCALENDAR