BEGIN:VCALENDAR
VERSION:2.0
PRODID:-//wp-events-plugin.com//7.2.3.1//EN
TZID:America/Chicago
X-WR-TIMEZONE:America/Chicago
BEGIN:VEVENT
UID:164@westfrankfortpubliclibrary.org
DTSTART;TZID=America/Chicago:20211124T110000
DTEND;TZID=America/Chicago:20211124T120000
DTSTAMP:20211110T170253Z
URL:https://westfrankfortpubliclibrary.org/events/teen-craft-registration-
 required-25/
SUMMARY:Teen Craft - registration required
DESCRIPTION:For ages 13 - 19. Space is limited. Call Michelle at the librar
 y to reserve your spot.
CATEGORIES:Teen Program
END:VEVENT
BEGIN:VTIMEZONE
TZID:America/Chicago
X-LIC-LOCATION:America/Chicago
BEGIN:STANDARD
DTSTART:20211107T010000
TZOFFSETFROM:-0500
TZOFFSETTO:-0600
TZNAME:CST
END:STANDARD
END:VTIMEZONE
END:VCALENDAR