BEGIN:VCALENDAR
VERSION:2.0
PRODID:-//wp-events-plugin.com//7.2.3.1//EN
TZID:America/Chicago
X-WR-TIMEZONE:America/Chicago
BEGIN:VEVENT
UID:117@westfrankfortpubliclibrary.org
DTSTART;TZID=America/Chicago:20210611T130000
DTEND;TZID=America/Chicago:20210611T140000
DTSTAMP:20210503T181413Z
URL:https://westfrankfortpubliclibrary.org/events/teen-craft-registration-
 required-24/
SUMMARY:Teen Craft - registration required
DESCRIPTION:Space is limited - call Michelle at the library to reserve your
  spot.
CATEGORIES:Teen Program
END:VEVENT
BEGIN:VTIMEZONE
TZID:America/Chicago
X-LIC-LOCATION:America/Chicago
BEGIN:DAYLIGHT
DTSTART:20210314T030000
TZOFFSETFROM:-0600
TZOFFSETTO:-0500
TZNAME:CDT
END:DAYLIGHT
END:VTIMEZONE
END:VCALENDAR