BEGIN:VCALENDAR
VERSION:2.0
PRODID:-//wp-events-plugin.com//7.2.3.1//EN
TZID:America/Chicago
X-WR-TIMEZONE:America/Chicago
BEGIN:VEVENT
UID:98@westfrankfortpubliclibrary.org
DTSTART;TZID=America/Chicago:20210430T130000
DTEND;TZID=America/Chicago:20210430T140000
DTSTAMP:20210312T181301Z
URL:https://westfrankfortpubliclibrary.org/events/teen-craft-registration-
 required-17/
SUMMARY:Teen Craft - registration required
DESCRIPTION:Teen Craft - space is limited. Call Michelle at the library to 
 reserve your space.
CATEGORIES:Teen Program
END:VEVENT
BEGIN:VTIMEZONE
TZID:America/Chicago
X-LIC-LOCATION:America/Chicago
BEGIN:DAYLIGHT
DTSTART:20210314T030000
TZOFFSETFROM:-0600
TZOFFSETTO:-0500
TZNAME:CDT
END:DAYLIGHT
END:VTIMEZONE
END:VCALENDAR