BEGIN:VCALENDAR
VERSION:2.0
PRODID:-//wp-events-plugin.com//7.2.3.1//EN
TZID:America/Chicago
X-WR-TIMEZONE:America/Chicago
BEGIN:VEVENT
UID:26@westfrankfortpubliclibrary.org
DTSTART;TZID=America/Chicago:20201002T110000
DTEND;TZID=America/Chicago:20201002T120000
DTSTAMP:20200922T191920Z
URL:https://westfrankfortpubliclibrary.org/events/teen-craft-limited-space
 -registration-required/
SUMMARY:Teen Craft - limited space registration required
DESCRIPTION:Due to social distancing space is limited. Call Michelle at the
  library to register.
CATEGORIES:Teen Program
END:VEVENT
BEGIN:VTIMEZONE
TZID:America/Chicago
X-LIC-LOCATION:America/Chicago
BEGIN:DAYLIGHT
DTSTART:20200308T030000
TZOFFSETFROM:-0600
TZOFFSETTO:-0500
TZNAME:CDT
END:DAYLIGHT
END:VTIMEZONE
END:VCALENDAR