BEGIN:VCALENDAR
VERSION:2.0
PRODID:-//wp-events-plugin.com//7.2.3.1//EN
TZID:America/Chicago
X-WR-TIMEZONE:America/Chicago
BEGIN:VEVENT
UID:36@westfrankfortpubliclibrary.org
DTSTART;TZID=America/Chicago:20201113T000000
DTEND;TZID=America/Chicago:20201113T000000
DTSTAMP:20201019T181654Z
URL:https://westfrankfortpubliclibrary.org/events/teen-craft-limited-space
 -registration-is-required-5/
SUMMARY:Teen Craft - limited space registration is required
DESCRIPTION:Teen Craft - limited space. Call Michelle at the library to reg
 ister for this event.
CATEGORIES:Teen Program
END:VEVENT
BEGIN:VTIMEZONE
TZID:America/Chicago
X-LIC-LOCATION:America/Chicago
BEGIN:STANDARD
DTSTART:20201101T010000
TZOFFSETFROM:-0500
TZOFFSETTO:-0600
TZNAME:CST
END:STANDARD
END:VTIMEZONE
END:VCALENDAR