BEGIN:VCALENDAR
VERSION:2.0
PRODID:-//wp-events-plugin.com//7.2.3.1//EN
TZID:America/Chicago
X-WR-TIMEZONE:America/Chicago
BEGIN:VEVENT
UID:122@westfrankfortpubliclibrary.org
DTSTART;TZID=America/Chicago;VALUE=DATE:20210603
DTEND;TZID=America/Chicago;VALUE=DATE:20210611
DTSTAMP:20210527T151954Z
URL:https://westfrankfortpubliclibrary.org/events/summer-reading-story-wal
 k/
SUMMARY:Summer Reading Story Walk
DESCRIPTION:Start at the library\, then take a stroll down Main Street read
 ing the story posted in windows of different businesses story ends at the 
 library. Once back at the library you will pick up your reading log pack t
 hat includes a prize\, weekly reading log\, free book and take home craft.
  You will be able to enter in a drawing for a prize.
CATEGORIES:Children's program
END:VEVENT
BEGIN:VTIMEZONE
TZID:America/Chicago
X-LIC-LOCATION:America/Chicago
BEGIN:DAYLIGHT
DTSTART:20210314T030000
TZOFFSETFROM:-0600
TZOFFSETTO:-0500
TZNAME:CDT
END:DAYLIGHT
END:VTIMEZONE
END:VCALENDAR