BEGIN:VCALENDAR
VERSION:2.0
PRODID:-//wp-events-plugin.com//7.2.3.1//EN
TZID:America/Chicago
X-WR-TIMEZONE:America/Chicago
BEGIN:VEVENT
UID:228@westfrankfortpubliclibrary.org
DTSTART;TZID=America/Chicago:20220609T123000
DTEND;TZID=America/Chicago:20220609T140000
DTSTAMP:20220503T175131Z
URL:https://westfrankfortpubliclibrary.org/events/summer-reading-program/
SUMMARY:Summer Reading Program
DESCRIPTION:Sign in 12:30 - 1:00\nProgram begins promptly at 1:00 - Chef Ba
 nanas the magician\nGrab n Go activity available to take home.\nChildren M
 ust be accompanied by an adult.
CATEGORIES:Children's program
END:VEVENT
BEGIN:VTIMEZONE
TZID:America/Chicago
X-LIC-LOCATION:America/Chicago
BEGIN:DAYLIGHT
DTSTART:20220313T030000
TZOFFSETFROM:-0600
TZOFFSETTO:-0500
TZNAME:CDT
END:DAYLIGHT
END:VTIMEZONE
END:VCALENDAR