BEGIN:VCALENDAR
VERSION:2.0
PRODID:-//wp-events-plugin.com//7.2.3.1//EN
TZID:America/Chicago
X-WR-TIMEZONE:America/Chicago
BEGIN:VEVENT
UID:462@westfrankfortpubliclibrary.org
DTSTART;TZID=America/Chicago;VALUE=DATE:20240606
DTEND;TZID=America/Chicago;VALUE=DATE:20240607
DTSTAMP:20240502T190107Z
URL:https://westfrankfortpubliclibrary.org/events/summer-reading-program-s
 tory-walk/
SUMMARY:Summer Reading Program - Story walk
DESCRIPTION:Go to the City park and participate in the Story Walk then come
  in the library  to register for the Summer Reading Program.
CATEGORIES:Children's program
END:VEVENT
BEGIN:VTIMEZONE
TZID:America/Chicago
X-LIC-LOCATION:America/Chicago
BEGIN:DAYLIGHT
DTSTART:20240310T030000
TZOFFSETFROM:-0600
TZOFFSETTO:-0500
TZNAME:CDT
END:DAYLIGHT
END:VTIMEZONE
END:VCALENDAR