BEGIN:VCALENDAR
VERSION:2.0
PRODID:-//wp-events-plugin.com//7.2.3.1//EN
TZID:America/Chicago
X-WR-TIMEZONE:America/Chicago
BEGIN:VEVENT
UID:125@westfrankfortpubliclibrary.org
DTSTART;TZID=America/Chicago:20210624T013000
DTEND;TZID=America/Chicago:20210624T023000
DTSTAMP:20210527T153410Z
URL:https://westfrankfortpubliclibrary.org/events/summer-reading-program-s
 econd-nature-wildlife-rescue/
SUMMARY:Summer Reading Program - Second Nature Wildlife Rescue
DESCRIPTION:Come to the library and learn about animals and animal rescue. 
 Pam Sundeen from Second Nature Animal Rescue will be here with some of her
  rescued friends. See the rescued animals and learn about the animals and 
 the rescue facility.  Get an extra reading ticket if you bring an item to
  donate. Things needed by the rescue facility are: paper towels\, puppy ch
 ow\, floor cleaner\, baby blankets\, small dog treats\, bleach and disposa
 ble gloves. Then turn in your reading logs\, register for prizes and pick 
 up your new weekly activity.
CATEGORIES:Children's program
END:VEVENT
BEGIN:VTIMEZONE
TZID:America/Chicago
X-LIC-LOCATION:America/Chicago
BEGIN:DAYLIGHT
DTSTART:20210314T030000
TZOFFSETFROM:-0600
TZOFFSETTO:-0500
TZNAME:CDT
END:DAYLIGHT
END:VTIMEZONE
END:VCALENDAR