BEGIN:VCALENDAR
VERSION:2.0
PRODID:-//wp-events-plugin.com//7.2.3.1//EN
TZID:America/Chicago
X-WR-TIMEZONE:America/Chicago
BEGIN:VEVENT
UID:227@westfrankfortpubliclibrary.org
DTSTART;TZID=America/Chicago:20220602T090000
DTEND;TZID=America/Chicago:20220602T180000
DTSTAMP:20220503T174803Z
URL:https://westfrankfortpubliclibrary.org/events/summer-reading-program-p
 re-registration/
SUMMARY:Summer Reading Program - pre registration
DESCRIPTION:Pre registration day. Take a walk through the park and check ou
 t the new story walk. Then come to the library and pick up your summer rea
 ding packet.
CATEGORIES:Children's program
END:VEVENT
BEGIN:VTIMEZONE
TZID:America/Chicago
X-LIC-LOCATION:America/Chicago
BEGIN:DAYLIGHT
DTSTART:20220313T030000
TZOFFSETFROM:-0600
TZOFFSETTO:-0500
TZNAME:CDT
END:DAYLIGHT
END:VTIMEZONE
END:VCALENDAR