BEGIN:VCALENDAR
VERSION:2.0
PRODID:-//wp-events-plugin.com//7.2.3.1//EN
TZID:America/Chicago
X-WR-TIMEZONE:America/Chicago
BEGIN:VEVENT
UID:123@westfrankfortpubliclibrary.org
DTSTART;TZID=America/Chicago:20210610T093000
DTEND;TZID=America/Chicago:20210610T103000
DTSTAMP:20210608T145732Z
URL:https://westfrankfortpubliclibrary.org/events/summer-reading-program-h
 unting-and-fishing-registration-required/
SUMMARY:Summer Reading Program - hunting and fishing - space is limited to 
 25 - registration required
DESCRIPTION:Maximum attendance for this program is 25. Please register for 
 your spot by coming in the library or calling Michelle at the library. Chi
 ldren must be accompanied by an adult.\nHunting and Fishing program. Scott
  Isringhausen from IL Dept of Natural Resources will have a display in the
  library parking lot and will have fishing demostrations at the West Frank
 fort Park pond. Fishing equipment will be supplied so space is limited and
  registration is required.  Turn in your reading logs and  pick up new l
 ogs\, weekly activity and register for a prize.
CATEGORIES:Children's program,Library information
END:VEVENT
BEGIN:VTIMEZONE
TZID:America/Chicago
X-LIC-LOCATION:America/Chicago
BEGIN:DAYLIGHT
DTSTART:20210314T030000
TZOFFSETFROM:-0600
TZOFFSETTO:-0500
TZNAME:CDT
END:DAYLIGHT
END:VTIMEZONE
END:VCALENDAR