BEGIN:VCALENDAR
VERSION:2.0
PRODID:-//wp-events-plugin.com//7.2.3.1//EN
TZID:America/Chicago
X-WR-TIMEZONE:America/Chicago
BEGIN:VEVENT
UID:126@westfrankfortpubliclibrary.org
DTSTART;TZID=America/Chicago;VALUE=DATE:20210708
DTEND;TZID=America/Chicago;VALUE=DATE:20210709
DTSTAMP:20210527T153604Z
URL:https://westfrankfortpubliclibrary.org/events/summer-reading-program-g
 rab-and-go-activity/
SUMMARY:Summer Reading Program - Grab and Go Activity
DESCRIPTION:Come in the library and drop off your reading logs\, register f
 or prizes\, and pick up your new reading log and weekly activity packet.
CATEGORIES:Children's program
END:VEVENT
BEGIN:VTIMEZONE
TZID:America/Chicago
X-LIC-LOCATION:America/Chicago
BEGIN:DAYLIGHT
DTSTART:20210314T030000
TZOFFSETFROM:-0600
TZOFFSETTO:-0500
TZNAME:CDT
END:DAYLIGHT
END:VTIMEZONE
END:VCALENDAR