BEGIN:VCALENDAR
VERSION:2.0
PRODID:-//wp-events-plugin.com//7.2.3.1//EN
TZID:America/Chicago
X-WR-TIMEZONE:America/Chicago
BEGIN:VEVENT
UID:358@westfrankfortpubliclibrary.org
DTSTART;TZID=America/Chicago:20230629T130000
DTEND;TZID=America/Chicago:20230629T143000
DTSTAMP:20230502T151307Z
URL:https://westfrankfortpubliclibrary.org/events/summer-reading-program-9
 /
SUMMARY:Summer Reading Program
DESCRIPTION:For ages pre-k to 6th grade\nChildren must be accompanied by an
  adult.\nCome into the library and turn in your reading log for chances to
  win a prize. We will be giving our donations to the animal shelter and a 
 representative will tell us about the services they offer. Bring your bath
 ing suit and towel and have outdoor fun with a Foam Party and ice cream tr
 uck. 
CATEGORIES:Children's program
END:VEVENT
BEGIN:VTIMEZONE
TZID:America/Chicago
X-LIC-LOCATION:America/Chicago
BEGIN:DAYLIGHT
DTSTART:20230312T030000
TZOFFSETFROM:-0600
TZOFFSETTO:-0500
TZNAME:CDT
END:DAYLIGHT
END:VTIMEZONE
END:VCALENDAR