BEGIN:VCALENDAR
VERSION:2.0
PRODID:-//wp-events-plugin.com//7.2.3.1//EN
TZID:America/Chicago
X-WR-TIMEZONE:America/Chicago
BEGIN:VEVENT
UID:355@westfrankfortpubliclibrary.org
DTSTART;TZID=America/Chicago:20230608T130000
DTEND;TZID=America/Chicago:20230608T143000
DTSTAMP:20230502T151106Z
URL:https://westfrankfortpubliclibrary.org/events/summer-reading-program-6
 /
SUMMARY:Summer Reading Program
DESCRIPTION:For ages pre-k to 6th grade.\nChildren must be accompanied by a
 n adult.\nCome into the library and turn in your reading log for chances t
 o win a prize. See Magician Richard Laundry and his rabbit Snowball. Take 
 a grab-and-go bag with a craft or activity to do at home turn in your resu
 lts and be entered into a drawing for a prize.
CATEGORIES:Children's program
END:VEVENT
BEGIN:VTIMEZONE
TZID:America/Chicago
X-LIC-LOCATION:America/Chicago
BEGIN:DAYLIGHT
DTSTART:20230312T030000
TZOFFSETFROM:-0600
TZOFFSETTO:-0500
TZNAME:CDT
END:DAYLIGHT
END:VTIMEZONE
END:VCALENDAR