BEGIN:VCALENDAR
VERSION:2.0
PRODID:-//wp-events-plugin.com//7.2.3.1//EN
TZID:America/Chicago
X-WR-TIMEZONE:America/Chicago
BEGIN:VEVENT
UID:354@westfrankfortpubliclibrary.org
DTSTART;TZID=America/Chicago;VALUE=DATE:20230601
DTEND;TZID=America/Chicago;VALUE=DATE:20230602
DTSTAMP:20230502T151014Z
URL:https://westfrankfortpubliclibrary.org/events/summer-reading-program-5
 /
SUMMARY:Summer Reading Program
DESCRIPTION:For ages pre-K to 6th grade.\nStory walk at the park then come 
 in to the library for your registration packet and free book.
CATEGORIES:Children's program
END:VEVENT
BEGIN:VTIMEZONE
TZID:America/Chicago
X-LIC-LOCATION:America/Chicago
BEGIN:DAYLIGHT
DTSTART:20230312T030000
TZOFFSETFROM:-0600
TZOFFSETTO:-0500
TZNAME:CDT
END:DAYLIGHT
END:VTIMEZONE
END:VCALENDAR