BEGIN:VCALENDAR
VERSION:2.0
PRODID:-//wp-events-plugin.com//7.2.3.1//EN
TZID:America/Chicago
X-WR-TIMEZONE:America/Chicago
BEGIN:VEVENT
UID:231@westfrankfortpubliclibrary.org
DTSTART;TZID=America/Chicago:20220630T123000
DTEND;TZID=America/Chicago:20220630T140000
DTSTAMP:20220503T180409Z
URL:https://westfrankfortpubliclibrary.org/events/summer-reading-program-4
 /
SUMMARY:Summer Reading Program
DESCRIPTION:Registration form 12:30 - 1:00\nProgram starts promptly at 1:00
  - Fred and his Feathered Friends\nGrab n Go activity available after the 
 program to take home.\nChildren must be accompanied by an adult.\n&nbsp\;
CATEGORIES:Children's program
END:VEVENT
BEGIN:VTIMEZONE
TZID:America/Chicago
X-LIC-LOCATION:America/Chicago
BEGIN:DAYLIGHT
DTSTART:20220313T030000
TZOFFSETFROM:-0600
TZOFFSETTO:-0500
TZNAME:CDT
END:DAYLIGHT
END:VTIMEZONE
END:VCALENDAR