BEGIN:VCALENDAR
VERSION:2.0
PRODID:-//wp-events-plugin.com//7.2.3.1//EN
TZID:America/Chicago
X-WR-TIMEZONE:America/Chicago
BEGIN:VEVENT
UID:230@westfrankfortpubliclibrary.org
DTSTART;TZID=America/Chicago:20220623T123000
DTEND;TZID=America/Chicago:20220623T140000
DTSTAMP:20220503T180045Z
URL:https://westfrankfortpubliclibrary.org/events/summer-reading-program-3
 /
SUMMARY:Summer Reading Program
DESCRIPTION:Registration from 12:30 - 1:00.\nProgram starts promptly at 1:0
 0 - Inspiring Kids - Izzy with her race car and Jareth the coal miner.\nGr
 ab n Go activity will be available to take home after the program.\nChildr
 en must be accompanied by an adult.
CATEGORIES:Children's program
END:VEVENT
BEGIN:VTIMEZONE
TZID:America/Chicago
X-LIC-LOCATION:America/Chicago
BEGIN:DAYLIGHT
DTSTART:20220313T030000
TZOFFSETFROM:-0600
TZOFFSETTO:-0500
TZNAME:CDT
END:DAYLIGHT
END:VTIMEZONE
END:VCALENDAR