BEGIN:VCALENDAR
VERSION:2.0
PRODID:-//wp-events-plugin.com//7.2.3.1//EN
TZID:America/Chicago
X-WR-TIMEZONE:America/Chicago
BEGIN:VEVENT
UID:124@westfrankfortpubliclibrary.org
DTSTART;TZID=America/Chicago;VALUE=DATE:20210617
DTEND;TZID=America/Chicago;VALUE=DATE:20210618
DTSTAMP:20210527T152753Z
URL:https://westfrankfortpubliclibrary.org/events/summer-reading-grab-and-
 go-activity/
SUMMARY:Summer Reading - Grab and Go Activity
DESCRIPTION:Drop off your reading log\, register for prizes and grab a new 
 activity packet.
CATEGORIES:Children's program
END:VEVENT
BEGIN:VTIMEZONE
TZID:America/Chicago
X-LIC-LOCATION:America/Chicago
BEGIN:DAYLIGHT
DTSTART:20210314T030000
TZOFFSETFROM:-0600
TZOFFSETTO:-0500
TZNAME:CDT
END:DAYLIGHT
END:VTIMEZONE
END:VCALENDAR