BEGIN:VCALENDAR
VERSION:2.0
PRODID:-//wp-events-plugin.com//7.2.3.1//EN
TZID:America/Chicago
X-WR-TIMEZONE:America/Chicago
BEGIN:VEVENT
UID:704@westfrankfortpubliclibrary.org
DTSTART;TZID=America/Chicago:20251219T170000
DTEND;TZID=America/Chicago:20251219T180000
DTSTAMP:20251104T205111Z
URL:https://westfrankfortpubliclibrary.org/events/story-time-with-mrs-clau
 s/
SUMMARY:Story Time with Mrs. Claus
DESCRIPTION:Read a book with Mrs. Claus. Make a snack and do a craft.
CATEGORIES:Children's program
END:VEVENT
BEGIN:VTIMEZONE
TZID:America/Chicago
X-LIC-LOCATION:America/Chicago
BEGIN:STANDARD
DTSTART:20251102T010000
TZOFFSETFROM:-0500
TZOFFSETTO:-0600
TZNAME:CST
END:STANDARD
END:VTIMEZONE
END:VCALENDAR