BEGIN:VCALENDAR
VERSION:2.0
PRODID:-//wp-events-plugin.com//7.2.3.1//EN
TZID:America/Chicago
X-WR-TIMEZONE:America/Chicago
BEGIN:VEVENT
UID:24@westfrankfortpubliclibrary.org
DTSTART;TZID=America/Chicago:20201020T130000
DTEND;TZID=America/Chicago:20201020T140000
DTSTAMP:20200922T191632Z
URL:https://westfrankfortpubliclibrary.org/events/story-time-3/
SUMMARY:Story Time
DESCRIPTION:For Pre-K and Kindergarten age children. Read a book and do a c
 raft or activity.
CATEGORIES:Children's program
END:VEVENT
BEGIN:VTIMEZONE
TZID:America/Chicago
X-LIC-LOCATION:America/Chicago
BEGIN:DAYLIGHT
DTSTART:20200308T030000
TZOFFSETFROM:-0600
TZOFFSETTO:-0500
TZNAME:CDT
END:DAYLIGHT
END:VTIMEZONE
END:VCALENDAR