BEGIN:VCALENDAR
VERSION:2.0
PRODID:-//wp-events-plugin.com//7.2.3.1//EN
TZID:America/Chicago
X-WR-TIMEZONE:America/Chicago
BEGIN:VEVENT
UID:226@westfrankfortpubliclibrary.org
DTSTART;TZID=America/Chicago:20220628T130000
DTEND;TZID=America/Chicago:20220628T140000
DTSTAMP:20220628T192653Z
URL:https://westfrankfortpubliclibrary.org/events/preschool-story-time-74/
SUMMARY:NO - Preschool Story Time
DESCRIPTION:
CATEGORIES:Children's program
END:VEVENT
BEGIN:VTIMEZONE
TZID:America/Chicago
X-LIC-LOCATION:America/Chicago
BEGIN:DAYLIGHT
DTSTART:20220313T030000
TZOFFSETFROM:-0600
TZOFFSETTO:-0500
TZNAME:CDT
END:DAYLIGHT
END:VTIMEZONE
END:VCALENDAR