BEGIN:VCALENDAR
VERSION:2.0
PRODID:-//wp-events-plugin.com//7.2.3.1//EN
TZID:America/Chicago
X-WR-TIMEZONE:America/Chicago
BEGIN:VEVENT
UID:339@westfrankfortpubliclibrary.org
DTSTART;TZID=America/Chicago:20230509T130000
DTEND;TZID=America/Chicago:20230509T140000
DTSTAMP:20230413T160722Z
URL:https://westfrankfortpubliclibrary.org/events/preschool-story-time-112
 /
SUMMARY:NO Preschool Story Time
DESCRIPTION:There will be no story time today.
CATEGORIES:Children's program
END:VEVENT
BEGIN:VTIMEZONE
TZID:America/Chicago
X-LIC-LOCATION:America/Chicago
BEGIN:DAYLIGHT
DTSTART:20230312T030000
TZOFFSETFROM:-0600
TZOFFSETTO:-0500
TZNAME:CDT
END:DAYLIGHT
END:VTIMEZONE
END:VCALENDAR