BEGIN:VCALENDAR
VERSION:2.0
PRODID:-//wp-events-plugin.com//7.2.3.1//EN
TZID:America/Chicago
X-WR-TIMEZONE:America/Chicago
BEGIN:VEVENT
UID:744@westfrankfortpubliclibrary.org
DTSTART;TZID=America/Chicago:20260331T153000
DTEND;TZID=America/Chicago:20260331T170000
DTSTAMP:20260330T142357Z
URL:https://westfrankfortpubliclibrary.org/events/pictures-with-the-easter
 -bunny-2/
SUMMARY:Pictures with the Easter Bunny
DESCRIPTION:Stop in and have your picture taken with the Easter Bunny. Ente
 r to win a stuffed bunny!
CATEGORIES:Children's program
END:VEVENT
BEGIN:VTIMEZONE
TZID:America/Chicago
X-LIC-LOCATION:America/Chicago
BEGIN:DAYLIGHT
DTSTART:20260308T030000
TZOFFSETFROM:-0600
TZOFFSETTO:-0500
TZNAME:CDT
END:DAYLIGHT
END:VTIMEZONE
END:VCALENDAR