BEGIN:VCALENDAR
VERSION:2.0
PRODID:-//wp-events-plugin.com//7.2.3.1//EN
TZID:America/Chicago
X-WR-TIMEZONE:America/Chicago
BEGIN:VEVENT
UID:155@westfrankfortpubliclibrary.org
DTSTART;TZID=America/Chicago:20211123T130000
DTEND;TZID=America/Chicago:20211123T140000
DTSTAMP:20211004T151716Z
URL:https://westfrankfortpubliclibrary.org/events/no-story-time/
SUMMARY:NO Story Time
DESCRIPTION:There will not be story time today. Happy Thanksgiving.
CATEGORIES:Children's program
END:VEVENT
BEGIN:VTIMEZONE
TZID:America/Chicago
X-LIC-LOCATION:America/Chicago
BEGIN:STANDARD
DTSTART:20211107T010000
TZOFFSETFROM:-0500
TZOFFSETTO:-0600
TZNAME:CST
END:STANDARD
END:VTIMEZONE
END:VCALENDAR