BEGIN:VCALENDAR
VERSION:2.0
PRODID:-//wp-events-plugin.com//7.2.3.1//EN
TZID:America/Chicago
X-WR-TIMEZONE:America/Chicago
BEGIN:VEVENT
UID:433@westfrankfortpubliclibrary.org
DTSTART;TZID=America/Chicago:20240305T130000
DTEND;TZID=America/Chicago:20240305T140000
DTSTAMP:20240105T180559Z
URL:https://westfrankfortpubliclibrary.org/events/no-preschool-story-time-
 8/
SUMMARY:NO Preschool Story Time
DESCRIPTION:Ther will be no Story Time today.
CATEGORIES:Children's program
END:VEVENT
BEGIN:VTIMEZONE
TZID:America/Chicago
X-LIC-LOCATION:America/Chicago
BEGIN:STANDARD
DTSTART:20231105T010000
TZOFFSETFROM:-0500
TZOFFSETTO:-0600
TZNAME:CST
END:STANDARD
END:VTIMEZONE
END:VCALENDAR