BEGIN:VCALENDAR
VERSION:2.0
PRODID:-//wp-events-plugin.com//7.2.3.1//EN
TZID:America/Chicago
X-WR-TIMEZONE:America/Chicago
BEGIN:VEVENT
UID:280@westfrankfortpubliclibrary.org
DTSTART;TZID=America/Chicago:20230103T130000
DTEND;TZID=America/Chicago:20230103T140000
DTSTAMP:20221205T171750Z
URL:https://westfrankfortpubliclibrary.org/events/no-preschool-story-time-
 5/
SUMMARY:NO Preschool Story Time
DESCRIPTION:Story Time will not be held today. Happy New Year's.
CATEGORIES:Children's program
END:VEVENT
BEGIN:VTIMEZONE
TZID:America/Chicago
X-LIC-LOCATION:America/Chicago
BEGIN:STANDARD
DTSTART:20221106T010000
TZOFFSETFROM:-0500
TZOFFSETTO:-0600
TZNAME:CST
END:STANDARD
END:VTIMEZONE
END:VCALENDAR