BEGIN:VCALENDAR
VERSION:2.0
PRODID:-//wp-events-plugin.com//7.2.3.1//EN
TZID:America/Chicago
X-WR-TIMEZONE:America/Chicago
BEGIN:VEVENT
UID:236@westfrankfortpubliclibrary.org
DTSTART;TZID=America/Chicago:20220705T130000
DTEND;TZID=America/Chicago:20220705T140000
DTSTAMP:20220628T192754Z
URL:https://westfrankfortpubliclibrary.org/events/no-preschool-story-time-
 3/
SUMMARY:No - Preschool Story Time
DESCRIPTION:There will be no Story Time today.
CATEGORIES:Children's program
END:VEVENT
BEGIN:VTIMEZONE
TZID:America/Chicago
X-LIC-LOCATION:America/Chicago
BEGIN:DAYLIGHT
DTSTART:20220313T030000
TZOFFSETFROM:-0600
TZOFFSETTO:-0500
TZNAME:CDT
END:DAYLIGHT
END:VTIMEZONE
END:VCALENDAR