BEGIN:VCALENDAR
VERSION:2.0
PRODID:-//wp-events-plugin.com//7.2.3.1//EN
TZID:America/Chicago
X-WR-TIMEZONE:America/Chicago
BEGIN:VEVENT
UID:251@westfrankfortpubliclibrary.org
DTSTART;TZID=America/Chicago:20221021T150000
DTEND;TZID=America/Chicago:20221021T170000
DTSTAMP:20220830T181318Z
URL:https://westfrankfortpubliclibrary.org/events/lawyer-in-the-library-3/
SUMMARY:Lawyer in the Library
DESCRIPTION:Attorney Shannon Appleton will be available for 20 minute meeti
 ngs to assist with free legal coaching\, document review\, referral to add
 itional community services\, and legal questions. Pre registration is reco
 mmended. Bring any paperwork that relates to your legal matter. Sign up at
  the desk upon arrival.
CATEGORIES:Adult program
END:VEVENT
BEGIN:VTIMEZONE
TZID:America/Chicago
X-LIC-LOCATION:America/Chicago
BEGIN:DAYLIGHT
DTSTART:20220313T030000
TZOFFSETFROM:-0600
TZOFFSETTO:-0500
TZNAME:CDT
END:DAYLIGHT
END:VTIMEZONE
END:VCALENDAR