BEGIN:VCALENDAR
VERSION:2.0
PRODID:-//wp-events-plugin.com//7.2.3.1//EN
TZID:America/Chicago
X-WR-TIMEZONE:America/Chicago
BEGIN:VEVENT
UID:381@westfrankfortpubliclibrary.org
DTSTART;TZID=America/Chicago:20231012T150000
DTEND;TZID=America/Chicago:20231012T170000
DTSTAMP:20231012T152811Z
URL:https://westfrankfortpubliclibrary.org/events/lawyer-in-the-library-16
 /
SUMMARY:Lawyer in the Library - Cancelled due to illness
DESCRIPTION:Due to illness Lawyer in the Library will not be here today. Ap
 pointments for today will be rescheduled for the 26th.\n&nbsp\;\nAttorney 
 Shannon Appleton will be available for 20 minute meetings to assist with f
 ree legal coaching\, document review\, referrals to additional community s
 ervices \, and legal questions. Pre-registration is recommended. Bring any
  paperwork that relates to your legal matter. Sign in at desk upon arrival
 .
CATEGORIES:Adult program
END:VEVENT
BEGIN:VTIMEZONE
TZID:America/Chicago
X-LIC-LOCATION:America/Chicago
BEGIN:DAYLIGHT
DTSTART:20230312T030000
TZOFFSETFROM:-0600
TZOFFSETTO:-0500
TZNAME:CDT
END:DAYLIGHT
END:VTIMEZONE
END:VCALENDAR