BEGIN:VCALENDAR
VERSION:2.0
PRODID:-//wp-events-plugin.com//7.2.3.1//EN
TZID:America/Chicago
X-WR-TIMEZONE:America/Chicago
BEGIN:VEVENT
UID:360@westfrankfortpubliclibrary.org
DTSTART;TZID=America/Chicago:20230606T103000
DTEND;TZID=America/Chicago:20230606T123000
DTSTAMP:20230503T142327Z
URL:https://westfrankfortpubliclibrary.org/events/icash-event/
SUMMARY:ICASH event
DESCRIPTION:Ginger Womic\, a representative from the Illinois Treasures Off
 ice will be here to help search and claim unclaimed property.
CATEGORIES:Adult program
END:VEVENT
BEGIN:VTIMEZONE
TZID:America/Chicago
X-LIC-LOCATION:America/Chicago
BEGIN:DAYLIGHT
DTSTART:20230312T030000
TZOFFSETFROM:-0600
TZOFFSETTO:-0500
TZNAME:CDT
END:DAYLIGHT
END:VTIMEZONE
END:VCALENDAR