BEGIN:VCALENDAR
VERSION:2.0
PRODID:-//wp-events-plugin.com//7.2.3.1//EN
TZID:America/Chicago
X-WR-TIMEZONE:America/Chicago
BEGIN:VEVENT
UID:401@westfrankfortpubliclibrary.org
DTSTART;TZID=America/Chicago:20231109T110000
DTEND;TZID=America/Chicago:20231109T130000
DTSTAMP:20231025T152457Z
URL:https://westfrankfortpubliclibrary.org/events/icash-discover-whats-you
 rs/
SUMMARY:ICash - Discover what's yours
DESCRIPTION:A representative from the Illinois Treasurer's office will be a
 t the library to help look for unclaimed property.
CATEGORIES:Adult program
END:VEVENT
BEGIN:VTIMEZONE
TZID:America/Chicago
X-LIC-LOCATION:America/Chicago
BEGIN:STANDARD
DTSTART:20231105T010000
TZOFFSETFROM:-0500
TZOFFSETTO:-0600
TZNAME:CST
END:STANDARD
END:VTIMEZONE
END:VCALENDAR