BEGIN:VCALENDAR
VERSION:2.0
PRODID:-//wp-events-plugin.com//7.2.3.1//EN
TZID:America/Chicago
X-WR-TIMEZONE:America/Chicago
BEGIN:VEVENT
UID:195@westfrankfortpubliclibrary.org
DTSTART;TZID=America/Chicago:20211220T093000
DTEND;TZID=America/Chicago:20211220T113000
DTSTAMP:20211208T154303Z
URL:https://westfrankfortpubliclibrary.org/events/i-cash-event/
SUMMARY:I-CASH event
DESCRIPTION:A representative from the Illinois Treasurer office will be her
 e to help patrons claim money and items held by the state. Come check it o
 ut. It may be your lucky day!
CATEGORIES:Adult program
END:VEVENT
BEGIN:VTIMEZONE
TZID:America/Chicago
X-LIC-LOCATION:America/Chicago
BEGIN:STANDARD
DTSTART:20211107T010000
TZOFFSETFROM:-0500
TZOFFSETTO:-0600
TZNAME:CST
END:STANDARD
END:VTIMEZONE
END:VCALENDAR