BEGIN:VCALENDAR
VERSION:2.0
PRODID:-//wp-events-plugin.com//7.2.3.1//EN
TZID:America/Chicago
X-WR-TIMEZONE:America/Chicago
BEGIN:VEVENT
UID:683@westfrankfortpubliclibrary.org
DTSTART;TZID=America/Chicago:20251108T113000
DTEND;TZID=America/Chicago:20251108T123000
DTSTAMP:20251003T181542Z
URL:https://westfrankfortpubliclibrary.org/events/garden-club-8/
SUMMARY:Garden Club
DESCRIPTION:This week - canning.
CATEGORIES:Adult program
END:VEVENT
BEGIN:VTIMEZONE
TZID:America/Chicago
X-LIC-LOCATION:America/Chicago
BEGIN:STANDARD
DTSTART:20251102T010000
TZOFFSETFROM:-0500
TZOFFSETTO:-0600
TZNAME:CST
END:STANDARD
END:VTIMEZONE
END:VCALENDAR