BEGIN:VCALENDAR
VERSION:2.0
PRODID:-//wp-events-plugin.com//7.2.3.1//EN
TZID:America/Chicago
X-WR-TIMEZONE:America/Chicago
BEGIN:VEVENT
UID:242@westfrankfortpubliclibrary.org
DTSTART;TZID=America/Chicago:20220804T123000
DTEND;TZID=America/Chicago:20220804T143000
DTSTAMP:20220802T143230Z
URL:https://westfrankfortpubliclibrary.org/events/fun-day-legos/
SUMMARY:Fun Day : Legos
DESCRIPTION:Come have fun with Legos. Freestyle play with Legos in the comm
 unity room.  Parent/Guardian must attend with child.
CATEGORIES:Children's program
END:VEVENT
BEGIN:VTIMEZONE
TZID:America/Chicago
X-LIC-LOCATION:America/Chicago
BEGIN:DAYLIGHT
DTSTART:20220313T030000
TZOFFSETFROM:-0600
TZOFFSETTO:-0500
TZNAME:CDT
END:DAYLIGHT
END:VTIMEZONE
END:VCALENDAR