BEGIN:VCALENDAR
VERSION:2.0
PRODID:-//wp-events-plugin.com//7.2.3.1//EN
TZID:America/Chicago
X-WR-TIMEZONE:America/Chicago
BEGIN:VEVENT
UID:376@westfrankfortpubliclibrary.org
DTSTART;TZID=America/Chicago;VALUE=DATE:20230825
DTEND;TZID=America/Chicago;VALUE=DATE:20230826
DTSTAMP:20230802T155823Z
URL:https://westfrankfortpubliclibrary.org/events/free-book-friday-7/
SUMMARY:Free Book Friday
DESCRIPTION:Come into the library and pick out a free book from the selecti
 on. Books for all ages are available pre-K to adult. One book per person p
 er day.
CATEGORIES:Adult program
END:VEVENT
BEGIN:VTIMEZONE
TZID:America/Chicago
X-LIC-LOCATION:America/Chicago
BEGIN:DAYLIGHT
DTSTART:20230312T030000
TZOFFSETFROM:-0600
TZOFFSETTO:-0500
TZNAME:CDT
END:DAYLIGHT
END:VTIMEZONE
END:VCALENDAR