BEGIN:VCALENDAR
VERSION:2.0
PRODID:-//wp-events-plugin.com//7.2.3.1//EN
TZID:America/Chicago
X-WR-TIMEZONE:America/Chicago
BEGIN:VEVENT
UID:165@westfrankfortpubliclibrary.org
DTSTART;TZID=America/Chicago:20211118T053000
DTEND;TZID=America/Chicago:20211118T063000
DTSTAMP:20211110T170558Z
URL:https://westfrankfortpubliclibrary.org/events/family-reading-night/
SUMMARY:Family Reading Night
DESCRIPTION:Family reading night. Read a book. Do a craft and play a game.
CATEGORIES:Adult program,Children's program
END:VEVENT
BEGIN:VTIMEZONE
TZID:America/Chicago
X-LIC-LOCATION:America/Chicago
BEGIN:STANDARD
DTSTART:20211107T010000
TZOFFSETFROM:-0500
TZOFFSETTO:-0600
TZNAME:CST
END:STANDARD
END:VTIMEZONE
END:VCALENDAR