BEGIN:VCALENDAR
VERSION:2.0
PRODID:-//wp-events-plugin.com//7.2.3.1//EN
TZID:America/Chicago
X-WR-TIMEZONE:America/Chicago
BEGIN:VEVENT
UID:402@westfrankfortpubliclibrary.org
DTSTART;TZID=America/Chicago:20231116T180000
DTEND;TZID=America/Chicago:20231116T190000
DTSTAMP:20231031T153920Z
URL:https://westfrankfortpubliclibrary.org/events/family-reading-night-3/
SUMMARY:Family Reading Night
DESCRIPTION:Local author Andrea Skuta will be the guest reader.   Partici
 pate in a family contest and make a treat.
CATEGORIES:Children's program
END:VEVENT
BEGIN:VTIMEZONE
TZID:America/Chicago
X-LIC-LOCATION:America/Chicago
BEGIN:STANDARD
DTSTART:20231105T010000
TZOFFSETFROM:-0500
TZOFFSETTO:-0600
TZNAME:CST
END:STANDARD
END:VTIMEZONE
END:VCALENDAR