BEGIN:VCALENDAR
VERSION:2.0
PRODID:-//wp-events-plugin.com//7.2.3.1//EN
TZID:America/Chicago
X-WR-TIMEZONE:America/Chicago
BEGIN:VEVENT
UID:682@westfrankfortpubliclibrary.org
DTSTART;TZID=America/Chicago:20251108T100000
DTEND;TZID=America/Chicago:20251108T113000
DTSTAMP:20251003T182452Z
URL:https://westfrankfortpubliclibrary.org/events/creative-writing-worksho
 p-registration-required/
SUMMARY:Creative Writing Workshop - registration required
DESCRIPTION:Local author M.E. Reach will be conducting a creative writing w
 orkshop. For ages 8 yrs thru adult.
CATEGORIES:Adult program
END:VEVENT
BEGIN:VTIMEZONE
TZID:America/Chicago
X-LIC-LOCATION:America/Chicago
BEGIN:STANDARD
DTSTART:20251102T010000
TZOFFSETFROM:-0500
TZOFFSETTO:-0600
TZNAME:CST
END:STANDARD
END:VTIMEZONE
END:VCALENDAR