BEGIN:VCALENDAR
VERSION:2.0
PRODID:-//wp-events-plugin.com//7.2.3.1//EN
TZID:America/Chicago
X-WR-TIMEZONE:America/Chicago
BEGIN:VEVENT
UID:11@westfrankfortpubliclibrary.org
DTSTART;TZID=America/Chicago;VALUE=DATE:20201127
DTEND;TZID=America/Chicago;VALUE=DATE:20201128
DTSTAMP:20200518T182557Z
URL:https://westfrankfortpubliclibrary.org/events/closed-thanksgiving-holi
 day-2/
SUMMARY:Closed - Thanksgiving Holiday
DESCRIPTION:
CATEGORIES:Library information
END:VEVENT
BEGIN:VTIMEZONE
TZID:America/Chicago
X-LIC-LOCATION:America/Chicago
BEGIN:STANDARD
DTSTART:20201101T010000
TZOFFSETFROM:-0500
TZOFFSETTO:-0600
TZNAME:CST
END:STANDARD
END:VTIMEZONE
END:VCALENDAR