BEGIN:VCALENDAR
VERSION:2.0
PRODID:-//wp-events-plugin.com//7.2.3.1//EN
TZID:America/Chicago
X-WR-TIMEZONE:America/Chicago
BEGIN:VEVENT
UID:67@westfrankfortpubliclibrary.org
DTSTART;TZID=America/Chicago;VALUE=DATE:20210705
DTEND;TZID=America/Chicago;VALUE=DATE:20210706
DTSTAMP:20210105T204406Z
URL:https://westfrankfortpubliclibrary.org/events/closed-independence-day-
 2/
SUMMARY:Closed - Independence Day
DESCRIPTION:
CATEGORIES:Library information
END:VEVENT
BEGIN:VTIMEZONE
TZID:America/Chicago
X-LIC-LOCATION:America/Chicago
BEGIN:DAYLIGHT
DTSTART:20210314T030000
TZOFFSETFROM:-0600
TZOFFSETTO:-0500
TZNAME:CDT
END:DAYLIGHT
END:VTIMEZONE
END:VCALENDAR