BEGIN:VCALENDAR
VERSION:2.0
PRODID:-//wp-events-plugin.com//7.2.3.1//EN
TZID:America/Chicago
X-WR-TIMEZONE:America/Chicago
BEGIN:VEVENT
UID:74@westfrankfortpubliclibrary.org
DTSTART;TZID=America/Chicago;VALUE=DATE:20211227
DTEND;TZID=America/Chicago;VALUE=DATE:20211228
DTSTAMP:20210105T204804Z
URL:https://westfrankfortpubliclibrary.org/events/closed-christmas-holiday
 -6/
SUMMARY:Closed - Christmas Holiday
DESCRIPTION:
CATEGORIES:Library information
END:VEVENT
BEGIN:VTIMEZONE
TZID:America/Chicago
X-LIC-LOCATION:America/Chicago
BEGIN:STANDARD
DTSTART:20211107T010000
TZOFFSETFROM:-0500
TZOFFSETTO:-0600
TZNAME:CST
END:STANDARD
END:VTIMEZONE
END:VCALENDAR