BEGIN:VCALENDAR
VERSION:2.0
PRODID:-//wp-events-plugin.com//7.2.3.1//EN
TZID:America/Chicago
X-WR-TIMEZONE:America/Chicago
BEGIN:VEVENT
UID:179@westfrankfortpubliclibrary.org
DTSTART;TZID=America/Chicago;VALUE=DATE:20220530
DTEND;TZID=America/Chicago;VALUE=DATE:20220531
DTSTAMP:20211202T170217Z
URL:https://westfrankfortpubliclibrary.org/events/closed-7/
SUMMARY:CLOSED
DESCRIPTION:Closed for Memorial Day.
CATEGORIES:Library information
END:VEVENT
BEGIN:VTIMEZONE
TZID:America/Chicago
X-LIC-LOCATION:America/Chicago
BEGIN:DAYLIGHT
DTSTART:20220313T030000
TZOFFSETFROM:-0600
TZOFFSETTO:-0500
TZNAME:CDT
END:DAYLIGHT
END:VTIMEZONE
END:VCALENDAR