BEGIN:VCALENDAR
VERSION:2.0
PRODID:-//wp-events-plugin.com//7.2.3.1//EN
TZID:America/Chicago
X-WR-TIMEZONE:America/Chicago
BEGIN:VEVENT
UID:273@westfrankfortpubliclibrary.org
DTSTART;TZID=America/Chicago;VALUE=DATE:20230116
DTEND;TZID=America/Chicago;VALUE=DATE:20230117
DTSTAMP:20221205T170628Z
URL:https://westfrankfortpubliclibrary.org/events/closed-18/
SUMMARY:Closed
DESCRIPTION:Closed in observance of Martin Luther King Jr. Day.
CATEGORIES:Library information
END:VEVENT
BEGIN:VTIMEZONE
TZID:America/Chicago
X-LIC-LOCATION:America/Chicago
BEGIN:STANDARD
DTSTART:20221106T010000
TZOFFSETFROM:-0500
TZOFFSETTO:-0600
TZNAME:CST
END:STANDARD
END:VTIMEZONE
END:VCALENDAR