BEGIN:VCALENDAR
VERSION:2.0
PRODID:-//wp-events-plugin.com//7.2.3.1//EN
TZID:America/Chicago
X-WR-TIMEZONE:America/Chicago
BEGIN:VEVENT
UID:157@westfrankfortpubliclibrary.org
DTSTART;TZID=America/Chicago:20211124T160000
DTEND;TZID=America/Chicago:20211124T180000
DTSTAMP:20211004T152055Z
URL:https://westfrankfortpubliclibrary.org/events/close-early/
SUMMARY:Close early
DESCRIPTION:The library will close at 4:00 pm today for the Thanksgiving Ho
 liday.
CATEGORIES:Library information
END:VEVENT
BEGIN:VTIMEZONE
TZID:America/Chicago
X-LIC-LOCATION:America/Chicago
BEGIN:STANDARD
DTSTART:20211107T010000
TZOFFSETFROM:-0500
TZOFFSETTO:-0600
TZNAME:CST
END:STANDARD
END:VTIMEZONE
END:VCALENDAR